Package: easyreporting Version: 1.21.0 Command: /Library/Frameworks/R.framework/Resources/bin/R CMD check --install=check:easyreporting.install-out.txt --library=/Library/Frameworks/R.framework/Resources/library --no-vignettes --timings easyreporting_1.21.0.tar.gz StartedAt: 2025-06-29 19:05:15 -0400 (Sun, 29 Jun 2025) EndedAt: 2025-06-29 19:05:31 -0400 (Sun, 29 Jun 2025) EllapsedTime: 16.2 seconds RetCode: 0 Status: OK CheckDir: easyreporting.Rcheck Warnings: 0