Package: easylift Version: 1.7.0 Command: /home/biocbuild/R/R/bin/R CMD INSTALL easylift StartedAt: 2025-07-14 20:48:50 -0000 (Mon, 14 Jul 2025) EndedAt: 2025-07-14 20:49:30 -0000 (Mon, 14 Jul 2025) EllapsedTime: 39.9 seconds RetCode: 0 Status: OK