Package: easylift Version: 1.7.0 Command: chmod a+r easylift -R && F:\biocbuild\bbs-3.22-bioc\R\bin\R.exe CMD build --keep-empty-dirs --no-resave-data easylift StartedAt: 2025-07-22 18:44:20 -0400 (Tue, 22 Jul 2025) EndedAt: 2025-07-22 18:45:31 -0400 (Tue, 22 Jul 2025) EllapsedTime: 70.6 seconds RetCode: 0 Status: OK PackageFile: easylift_1.7.0.tar.gz PackageFileSize: 673.6 KiB