Package: easylift Version: 1.7.0 Command: /Library/Frameworks/R.framework/Resources/bin/R CMD INSTALL easylift StartedAt: 2025-07-11 15:17:40 -0400 (Fri, 11 Jul 2025) EndedAt: 2025-07-11 15:17:52 -0400 (Fri, 11 Jul 2025) EllapsedTime: 12.6 seconds RetCode: 0 Status: OK