Package: easyRNASeq Version: 2.45.1 Command: F:\biocbuild\bbs-3.22-bioc\R\bin\R.exe CMD INSTALL easyRNASeq StartedAt: 2025-07-22 16:28:12 -0400 (Tue, 22 Jul 2025) EndedAt: 2025-07-22 16:30:12 -0400 (Tue, 22 Jul 2025) EllapsedTime: 119.6 seconds RetCode: 0 Status: OK