Package: easyRNASeq Version: 2.45.1 Command: F:\biocbuild\bbs-3.22-bioc\R\bin\R.exe CMD check --no-multiarch --install=check:easyRNASeq.install-out.txt --library=F:\biocbuild\bbs-3.22-bioc\R\library --no-vignettes --timings easyRNASeq_2.45.1.tar.gz StartedAt: 2025-07-23 01:42:31 -0400 (Wed, 23 Jul 2025) EndedAt: 2025-07-23 01:54:49 -0400 (Wed, 23 Jul 2025) EllapsedTime: 737.8 seconds RetCode: 0 Status: WARNINGS CheckDir: easyRNASeq.Rcheck Warnings: 1