Package: easyRNASeq Version: 2.45.1 Command: /Library/Frameworks/R.framework/Resources/bin/R CMD check --install=check:easyRNASeq.install-out.txt --library=/Library/Frameworks/R.framework/Resources/library --no-vignettes --timings easyRNASeq_2.45.1.tar.gz StartedAt: 2025-07-01 19:03:56 -0400 (Tue, 01 Jul 2025) EndedAt: 2025-07-01 19:08:17 -0400 (Tue, 01 Jul 2025) EllapsedTime: 261.2 seconds RetCode: 0 Status: WARNINGS CheckDir: easyRNASeq.Rcheck Warnings: 1