Package: easyRNASeq Version: 2.45.1 Command: /Library/Frameworks/R.framework/Resources/bin/R CMD build --keep-empty-dirs --no-resave-data easyRNASeq StartedAt: 2025-07-01 16:11:36 -0400 (Tue, 01 Jul 2025) EndedAt: 2025-07-01 16:13:31 -0400 (Tue, 01 Jul 2025) EllapsedTime: 115.3 seconds RetCode: 0 Status: OK PackageFile: easyRNASeq_2.45.1.tar.gz PackageFileSize: 69.55 MiB