Package: dyebias Version: 1.69.0 Command: /home/biocbuild/bbs-3.22-bioc/R/bin/R CMD INSTALL dyebias StartedAt: 2025-10-03 15:12:22 -0400 (Fri, 03 Oct 2025) EndedAt: 2025-10-03 15:12:28 -0400 (Fri, 03 Oct 2025) EllapsedTime: 5.6 seconds RetCode: 0 Status: OK