Package: dyebias Version: 1.69.0 Command: /Library/Frameworks/R.framework/Resources/bin/R CMD check --install=check:dyebias.install-out.txt --library=/Library/Frameworks/R.framework/Resources/library --no-vignettes --timings dyebias_1.69.0.tar.gz StartedAt: 2025-07-01 20:32:40 -0400 (Tue, 01 Jul 2025) EndedAt: 2025-07-01 20:33:36 -0400 (Tue, 01 Jul 2025) EllapsedTime: 56.1 seconds RetCode: 0 Status: OK CheckDir: dyebias.Rcheck Warnings: 0