Package: dupRadar Version: 1.39.0 Command: /home/biocbuild/R/R/bin/R CMD INSTALL dupRadar StartedAt: 2025-06-30 20:19:09 -0000 (Mon, 30 Jun 2025) EndedAt: 2025-06-30 20:20:03 -0000 (Mon, 30 Jun 2025) EllapsedTime: 54.0 seconds RetCode: 0 Status: OK