Package: dupRadar Version: 1.39.0 Command: /home/biocbuild/R/R/bin/R CMD build --keep-empty-dirs --no-resave-data dupRadar StartedAt: 2025-06-30 23:21:35 -0000 (Mon, 30 Jun 2025) EndedAt: 2025-06-30 23:22:24 -0000 (Mon, 30 Jun 2025) EllapsedTime: 49.0 seconds RetCode: 0 Status: OK PackageFile: dupRadar_1.39.0.tar.gz PackageFileSize: 3.11 MiB