Package: dupRadar Version: 1.39.0 Command: /Library/Frameworks/R.framework/Resources/bin/R CMD check --install=check:dupRadar.install-out.txt --library=/Library/Frameworks/R.framework/Resources/library --no-vignettes --timings dupRadar_1.39.0.tar.gz StartedAt: 2025-07-01 19:03:12 -0400 (Tue, 01 Jul 2025) EndedAt: 2025-07-01 19:03:33 -0400 (Tue, 01 Jul 2025) EllapsedTime: 21.2 seconds RetCode: 0 Status: OK CheckDir: dupRadar.Rcheck Warnings: 0