Package: dupRadar Version: 1.39.0 Command: /Library/Frameworks/R.framework/Resources/bin/R CMD build --keep-empty-dirs --no-resave-data dupRadar StartedAt: 2025-07-01 16:11:20 -0400 (Tue, 01 Jul 2025) EndedAt: 2025-07-01 16:11:36 -0400 (Tue, 01 Jul 2025) EllapsedTime: 16.2 seconds RetCode: 0 Status: OK PackageFile: dupRadar_1.39.0.tar.gz PackageFileSize: 3.857 MiB