Package: drugTargetInteractions Version: 1.17.0 Command: /home/biocbuild/R/R/bin/R CMD INSTALL drugTargetInteractions StartedAt: 2025-07-24 21:49:36 -0000 (Thu, 24 Jul 2025) EndedAt: 2025-07-24 21:50:26 -0000 (Thu, 24 Jul 2025) EllapsedTime: 49.9 seconds RetCode: 0 Status: OK