Package: drugTargetInteractions Version: 1.17.0 Command: /home/biocbuild/R/R/bin/R CMD build --keep-empty-dirs --no-resave-data drugTargetInteractions StartedAt: 2025-07-25 00:19:55 -0000 (Fri, 25 Jul 2025) EndedAt: 2025-07-25 00:22:02 -0000 (Fri, 25 Jul 2025) EllapsedTime: 127.0 seconds RetCode: 0 Status: OK PackageFile: drugTargetInteractions_1.17.0.tar.gz PackageFileSize: 1.03 MiB