Package: drugTargetInteractions Version: 1.17.0 Command: F:\biocbuild\bbs-3.22-bioc\R\bin\R.exe CMD INSTALL drugTargetInteractions StartedAt: 2025-07-24 16:51:39 -0400 (Thu, 24 Jul 2025) EndedAt: 2025-07-24 16:53:00 -0400 (Thu, 24 Jul 2025) EllapsedTime: 81.8 seconds RetCode: 0 Status: OK