Package: drugTargetInteractions Version: 1.17.0 Command: /home/biocbuild/bbs-3.22-bioc/R/bin/R CMD INSTALL drugTargetInteractions StartedAt: 2025-07-01 15:39:45 -0400 (Tue, 01 Jul 2025) EndedAt: 2025-07-01 15:40:26 -0400 (Tue, 01 Jul 2025) EllapsedTime: 41.6 seconds RetCode: 0 Status: OK