Package: drugTargetInteractions Version: 1.17.0 Command: /home/biocbuild/bbs-3.22-bioc/R/bin/R CMD check --install=check:drugTargetInteractions.install-out.txt --library=/home/biocbuild/bbs-3.22-bioc/R/site-library --timings drugTargetInteractions_1.17.0.tar.gz StartedAt: 2025-07-01 21:56:20 -0400 (Tue, 01 Jul 2025) EndedAt: 2025-07-01 22:03:08 -0400 (Tue, 01 Jul 2025) EllapsedTime: 408.4 seconds RetCode: 0 Status: OK CheckDir: drugTargetInteractions.Rcheck Warnings: 0