Package: drugTargetInteractions Version: 1.17.0 Command: /home/biocbuild/bbs-3.22-bioc/R/bin/R CMD build --keep-empty-dirs --no-resave-data --md5 drugTargetInteractions StartedAt: 2025-07-01 17:02:57 -0400 (Tue, 01 Jul 2025) EndedAt: 2025-07-01 17:04:35 -0400 (Tue, 01 Jul 2025) EllapsedTime: 97.1 seconds RetCode: 0 Status: OK PackageFile: drugTargetInteractions_1.17.0.tar.gz PackageFileSize: 960.5 KiB