Package: drugTargetInteractions Version: 1.17.0 Command: /Library/Frameworks/R.framework/Resources/bin/R CMD check --install=check:drugTargetInteractions.install-out.txt --library=/Library/Frameworks/R.framework/Resources/library --no-vignettes --timings drugTargetInteractions_1.17.0.tar.gz StartedAt: 2025-07-20 19:07:37 -0400 (Sun, 20 Jul 2025) EndedAt: 2025-07-20 19:10:04 -0400 (Sun, 20 Jul 2025) EllapsedTime: 146.8 seconds RetCode: 0 Status: OK CheckDir: drugTargetInteractions.Rcheck Warnings: 0