Package: doubletrouble Version: 1.9.0 Command: /Library/Frameworks/R.framework/Resources/bin/R CMD INSTALL doubletrouble StartedAt: 2025-07-01 15:25:41 -0400 (Tue, 01 Jul 2025) EndedAt: 2025-07-01 15:25:58 -0400 (Tue, 01 Jul 2025) EllapsedTime: 16.6 seconds RetCode: 0 Status: OK