Package: doseR Version: 1.25.0 Command: /home/biocbuild/R/R/bin/R CMD INSTALL doseR StartedAt: 2025-07-07 20:25:16 -0000 (Mon, 07 Jul 2025) EndedAt: 2025-07-07 20:25:42 -0000 (Mon, 07 Jul 2025) EllapsedTime: 26.0 seconds RetCode: 0 Status: OK