Package: doseR Version: 1.25.0 Command: /home/biocbuild/R/R/bin/R CMD check --install=check:doseR.install-out.txt --library=/home/biocbuild/R/R/site-library --no-vignettes --timings doseR_1.25.0.tar.gz StartedAt: 2025-07-08 06:09:15 -0000 (Tue, 08 Jul 2025) EndedAt: 2025-07-08 06:12:30 -0000 (Tue, 08 Jul 2025) EllapsedTime: 195.1 seconds RetCode: 0 Status: OK CheckDir: doseR.Rcheck Warnings: 0