Package: doseR Version: 1.25.0 Command: /home/biocbuild/R/R/bin/R CMD build --keep-empty-dirs --no-resave-data doseR StartedAt: 2025-07-07 23:10:35 -0000 (Mon, 07 Jul 2025) EndedAt: 2025-07-07 23:11:17 -0000 (Mon, 07 Jul 2025) EllapsedTime: 42.0 seconds RetCode: 0 Status: OK PackageFile: doseR_1.25.0.tar.gz PackageFileSize: 1.053 MiB