Package: doppelgangR Version: 1.37.3 Command: /home/biocbuild/R/R/bin/R CMD INSTALL doppelgangR StartedAt: 2025-07-14 20:43:21 -0000 (Mon, 14 Jul 2025) EndedAt: 2025-07-14 20:44:04 -0000 (Mon, 14 Jul 2025) EllapsedTime: 42.9 seconds RetCode: 0 Status: OK