Package: doppelgangR Version: 1.37.3 Command: /home/biocbuild/R/R/bin/R CMD check --install=check:doppelgangR.install-out.txt --library=/home/biocbuild/R/R/site-library --no-vignettes --timings doppelgangR_1.37.3.tar.gz StartedAt: 2025-07-18 06:21:04 -0000 (Fri, 18 Jul 2025) EndedAt: 2025-07-18 06:27:25 -0000 (Fri, 18 Jul 2025) EllapsedTime: 381.4 seconds RetCode: 0 Status: OK CheckDir: doppelgangR.Rcheck Warnings: 0