Package: dominoSignal Version: 1.3.0 Command: F:\biocbuild\bbs-3.22-bioc\R\bin\R.exe CMD INSTALL dominoSignal StartedAt: 2025-07-13 17:04:36 -0400 (Sun, 13 Jul 2025) EndedAt: 2025-07-13 17:05:30 -0400 (Sun, 13 Jul 2025) EllapsedTime: 54.6 seconds RetCode: 0 Status: OK