Package: dominoSignal Version: 1.3.0 Command: F:\biocbuild\bbs-3.22-bioc\R\bin\R.exe CMD check --no-multiarch --install=check:dominoSignal.install-out.txt --library=F:\biocbuild\bbs-3.22-bioc\R\library --no-vignettes --timings dominoSignal_1.3.0.tar.gz StartedAt: 2025-07-15 01:29:44 -0400 (Tue, 15 Jul 2025) EndedAt: 2025-07-15 01:33:13 -0400 (Tue, 15 Jul 2025) EllapsedTime: 209.4 seconds RetCode: 0 Status: OK CheckDir: dominoSignal.Rcheck Warnings: 0