Package: dominoSignal Version: 1.3.0 Command: chmod a+r dominoSignal -R && F:\biocbuild\bbs-3.22-bioc\R\bin\R.exe CMD build --keep-empty-dirs --no-resave-data dominoSignal StartedAt: 2025-07-13 18:41:34 -0400 (Sun, 13 Jul 2025) EndedAt: 2025-07-13 18:44:20 -0400 (Sun, 13 Jul 2025) EllapsedTime: 166.6 seconds RetCode: 0 Status: OK PackageFile: dominoSignal_1.3.0.tar.gz PackageFileSize: 634.6 KiB