Package: dominoSignal Version: 1.3.0 Command: /Library/Frameworks/R.framework/Resources/bin/R CMD build --keep-empty-dirs --no-resave-data dominoSignal StartedAt: 2025-07-14 16:10:21 -0400 (Mon, 14 Jul 2025) EndedAt: 2025-07-14 16:11:14 -0400 (Mon, 14 Jul 2025) EllapsedTime: 52.6 seconds RetCode: 0 Status: OK PackageFile: dominoSignal_1.3.0.tar.gz PackageFileSize: 1.067 MiB