Package: dmrseq Version: 1.29.1 Command: /Library/Frameworks/R.framework/Resources/bin/R CMD INSTALL dmrseq StartedAt: 2025-06-29 15:35:20 -0400 (Sun, 29 Jun 2025) EndedAt: 2025-06-29 15:36:25 -0400 (Sun, 29 Jun 2025) EllapsedTime: 65.3 seconds RetCode: 0 Status: OK