Package: dmrseq Version: 1.29.1 Command: /Library/Frameworks/R.framework/Resources/bin/R CMD check --install=check:dmrseq.install-out.txt --library=/Library/Frameworks/R.framework/Resources/library --no-vignettes --timings dmrseq_1.29.1.tar.gz StartedAt: 2025-06-29 20:12:02 -0400 (Sun, 29 Jun 2025) EndedAt: 2025-06-29 20:18:57 -0400 (Sun, 29 Jun 2025) EllapsedTime: 415.2 seconds RetCode: 0 Status: OK CheckDir: dmrseq.Rcheck Warnings: 0