Package: dmrseq Version: 1.29.1 Command: /Library/Frameworks/R.framework/Resources/bin/R CMD build --keep-empty-dirs --no-resave-data dmrseq StartedAt: 2025-06-29 16:35:38 -0400 (Sun, 29 Jun 2025) EndedAt: 2025-06-29 16:38:53 -0400 (Sun, 29 Jun 2025) EllapsedTime: 195.1 seconds RetCode: 0 Status: OK PackageFile: dmrseq_1.29.1.tar.gz PackageFileSize: 2.962 MiB