Package: dmrseq Version: 1.29.1 Command: /Library/Frameworks/R.framework/Resources/bin/R CMD INSTALL dmrseq StartedAt: 2025-07-22 15:21:16 -0400 (Tue, 22 Jul 2025) EndedAt: 2025-07-22 15:21:36 -0400 (Tue, 22 Jul 2025) EllapsedTime: 20.4 seconds RetCode: 0 Status: OK