Package: dmrseq Version: 1.29.1 Command: /Library/Frameworks/R.framework/Resources/bin/R CMD build --keep-empty-dirs --no-resave-data dmrseq StartedAt: 2025-07-22 16:10:14 -0400 (Tue, 22 Jul 2025) EndedAt: 2025-07-22 16:11:24 -0400 (Tue, 22 Jul 2025) EllapsedTime: 69.8 seconds RetCode: 0 Status: OK PackageFile: dmrseq_1.29.1.tar.gz PackageFileSize: 2.968 MiB