Package: dmrseq Version: 1.29.1 Command: rm -rf dmrseq.buildbin-libdir && mkdir dmrseq.buildbin-libdir && /Users/biocbuild/BBS/utils/build-universal.sh dmrseq_1.29.1.tar.gz /Library/Frameworks/R.framework/Resources/bin/R dmrseq.buildbin-libdir StartedAt: 2025-07-22 22:22:35 -0400 (Tue, 22 Jul 2025) EndedAt: 2025-07-22 22:22:56 -0400 (Tue, 22 Jul 2025) EllapsedTime: 21.4 seconds RetCode: 0 Status: OK PackageFile: dmrseq_1.29.1.tgz PackageFileSize: 4.514 MiB