Package: dmGsea Version: 0.99.6 Command: /home/biocbuild/R/R/bin/R CMD check --install=check:dmGsea.install-out.txt --library=/home/biocbuild/R/R/site-library --no-vignettes --timings dmGsea_0.99.6.tar.gz StartedAt: 2025-07-01 06:51:14 -0000 (Tue, 01 Jul 2025) EndedAt: 2025-07-01 07:00:15 -0000 (Tue, 01 Jul 2025) EllapsedTime: 541.3 seconds RetCode: 1 Status: ERROR CheckDir: dmGsea.Rcheck Warnings: NA