Package: dmGsea Version: 0.99.6 Command: /home/biocbuild/bbs-3.22-bioc/R/bin/R CMD check --install=check:dmGsea.install-out.txt --library=/home/biocbuild/bbs-3.22-bioc/R/site-library --timings dmGsea_0.99.6.tar.gz StartedAt: 2025-07-14 21:51:47 -0400 (Mon, 14 Jul 2025) EndedAt: 2025-07-14 22:04:36 -0400 (Mon, 14 Jul 2025) EllapsedTime: 768.7 seconds RetCode: 0 Status: OK CheckDir: dmGsea.Rcheck Warnings: 0