Package: divergence Version: 1.25.0 Command: chmod a+r divergence -R && F:\biocbuild\bbs-3.22-bioc\R\bin\R.exe CMD build --keep-empty-dirs --no-resave-data divergence StartedAt: 2025-07-20 18:36:48 -0400 (Sun, 20 Jul 2025) EndedAt: 2025-07-20 18:38:04 -0400 (Sun, 20 Jul 2025) EllapsedTime: 75.6 seconds RetCode: 0 Status: OK PackageFile: divergence_1.25.0.tar.gz PackageFileSize: 2.073 MiB