Package: divergence Version: 1.25.0 Command: rm -rf divergence.buildbin-libdir && mkdir divergence.buildbin-libdir && F:\biocbuild\bbs-3.22-bioc\R\bin\R.exe CMD INSTALL --build --library=divergence.buildbin-libdir divergence_1.25.0.tar.gz StartedAt: 2025-07-21 08:56:24 -0400 (Mon, 21 Jul 2025) EndedAt: 2025-07-21 08:57:02 -0400 (Mon, 21 Jul 2025) EllapsedTime: 38.1 seconds RetCode: 0 Status: OK PackageFile: divergence_1.25.0.zip PackageFileSize: 1.955 MiB