Package: divergence Version: 1.25.0 Command: /home/biocbuild/bbs-3.22-bioc/R/bin/R CMD INSTALL divergence StartedAt: 2025-07-14 15:16:13 -0400 (Mon, 14 Jul 2025) EndedAt: 2025-07-14 15:16:32 -0400 (Mon, 14 Jul 2025) EllapsedTime: 19.6 seconds RetCode: 0 Status: OK