Package: divergence Version: 1.25.0 Command: /home/biocbuild/bbs-3.22-bioc/R/bin/R CMD build --keep-empty-dirs --no-resave-data --md5 divergence StartedAt: 2025-07-14 17:03:25 -0400 (Mon, 14 Jul 2025) EndedAt: 2025-07-14 17:04:19 -0400 (Mon, 14 Jul 2025) EllapsedTime: 53.1 seconds RetCode: 0 Status: OK PackageFile: divergence_1.25.0.tar.gz PackageFileSize: 2.074 MiB