Package: divergence Version: 1.25.0 Command: /Library/Frameworks/R.framework/Resources/bin/R CMD INSTALL divergence StartedAt: 2025-07-01 15:30:42 -0400 (Tue, 01 Jul 2025) EndedAt: 2025-07-01 15:31:10 -0400 (Tue, 01 Jul 2025) EllapsedTime: 27.4 seconds RetCode: 0 Status: OK