Package: divergence Version: 1.25.0 Command: rm -rf divergence.buildbin-libdir && mkdir divergence.buildbin-libdir && /Users/biocbuild/BBS/utils/build-universal.sh divergence_1.25.0.tar.gz /Library/Frameworks/R.framework/Resources/bin/R divergence.buildbin-libdir StartedAt: 2025-07-02 00:54:39 -0400 (Wed, 02 Jul 2025) EndedAt: 2025-07-02 00:55:10 -0400 (Wed, 02 Jul 2025) EllapsedTime: 31.0 seconds RetCode: 0 Status: OK PackageFile: divergence_1.25.0.tgz PackageFileSize: 1.953 MiB