Package: dittoSeq Version: 1.21.0 Command: /home/biocbuild/R/R/bin/R CMD INSTALL dittoSeq StartedAt: 2025-07-07 20:29:51 -0000 (Mon, 07 Jul 2025) EndedAt: 2025-07-07 20:30:25 -0000 (Mon, 07 Jul 2025) EllapsedTime: 34.7 seconds RetCode: 0 Status: OK