Package: dittoSeq Version: 1.21.0 Command: /home/biocbuild/R/R/bin/R CMD check --install=check:dittoSeq.install-out.txt --library=/home/biocbuild/R/R/site-library --no-vignettes --timings dittoSeq_1.21.0.tar.gz StartedAt: 2025-07-08 06:04:04 -0000 (Tue, 08 Jul 2025) EndedAt: 2025-07-08 06:13:06 -0000 (Tue, 08 Jul 2025) EllapsedTime: 542.4 seconds RetCode: 0 Status: OK CheckDir: dittoSeq.Rcheck Warnings: 0