Package: dittoSeq Version: 1.21.0 Command: /home/biocbuild/R/R/bin/R CMD build --keep-empty-dirs --no-resave-data dittoSeq StartedAt: 2025-07-07 23:06:15 -0000 (Mon, 07 Jul 2025) EndedAt: 2025-07-07 23:08:59 -0000 (Mon, 07 Jul 2025) EllapsedTime: 164.1 seconds RetCode: 0 Status: OK PackageFile: dittoSeq_1.21.0.tar.gz PackageFileSize: 2.497 MiB