Package: dittoSeq Version: 1.21.0 Command: chmod a+r dittoSeq -R && F:\biocbuild\bbs-3.22-bioc\R\bin\R.exe CMD build --keep-empty-dirs --no-resave-data dittoSeq StartedAt: 2025-07-07 18:37:17 -0400 (Mon, 07 Jul 2025) EndedAt: 2025-07-07 18:40:26 -0400 (Mon, 07 Jul 2025) EllapsedTime: 189.6 seconds RetCode: 0 Status: OK PackageFile: dittoSeq_1.21.0.tar.gz PackageFileSize: 2.508 MiB