Package: dittoSeq Version: 1.21.0 Command: rm -rf dittoSeq.buildbin-libdir && mkdir dittoSeq.buildbin-libdir && F:\biocbuild\bbs-3.22-bioc\R\bin\R.exe CMD INSTALL --build --library=dittoSeq.buildbin-libdir dittoSeq_1.21.0.tar.gz StartedAt: 2025-07-08 08:49:20 -0400 (Tue, 08 Jul 2025) EndedAt: 2025-07-08 08:50:06 -0400 (Tue, 08 Jul 2025) EllapsedTime: 46.1 seconds RetCode: 0 Status: OK PackageFile: dittoSeq_1.21.0.zip PackageFileSize: 2.034 MiB